BEGIN:VCALENDAR
VERSION:2.0
PRODID:-//Camp Carysbrook - ECPv6.15.20//NONSGML v1.0//EN
CALSCALE:GREGORIAN
METHOD:PUBLISH
X-WR-CALNAME:Camp Carysbrook
X-ORIGINAL-URL:https://campcarysbrook.com
X-WR-CALDESC:Events for Camp Carysbrook
REFRESH-INTERVAL;VALUE=DURATION:PT1H
X-Robots-Tag:noindex
X-PUBLISHED-TTL:PT1H
BEGIN:VTIMEZONE
TZID:America/New_York
BEGIN:DAYLIGHT
TZOFFSETFROM:-0500
TZOFFSETTO:-0400
TZNAME:EDT
DTSTART:20250309T070000
END:DAYLIGHT
BEGIN:STANDARD
TZOFFSETFROM:-0400
TZOFFSETTO:-0500
TZNAME:EST
DTSTART:20251102T060000
END:STANDARD
BEGIN:DAYLIGHT
TZOFFSETFROM:-0500
TZOFFSETTO:-0400
TZNAME:EDT
DTSTART:20260308T070000
END:DAYLIGHT
BEGIN:STANDARD
TZOFFSETFROM:-0400
TZOFFSETTO:-0500
TZNAME:EST
DTSTART:20261101T060000
END:STANDARD
BEGIN:DAYLIGHT
TZOFFSETFROM:-0500
TZOFFSETTO:-0400
TZNAME:EDT
DTSTART:20270314T070000
END:DAYLIGHT
BEGIN:STANDARD
TZOFFSETFROM:-0400
TZOFFSETTO:-0500
TZNAME:EST
DTSTART:20271107T060000
END:STANDARD
END:VTIMEZONE
BEGIN:VEVENT
DTSTART;VALUE=DATE:20260515
DTEND;VALUE=DATE:20260516
DTSTAMP:20260424T094024
CREATED:20250828T173325Z
LAST-MODIFIED:20251204T145748Z
UID:9035-1778803200-1778889599@campcarysbrook.com
SUMMARY:2026 Camper/Staff Health Forms Deadline to Avoid Late Fee
DESCRIPTION:Log in to your Camp InTouch online account to complete the camper/staff health forms required to check in for your session. Your profile must be complete by May 15\, 2026 to avoid a fee with the exception of the Health Provider form for insurance reasons. Please contact Erika in the office with any questions.
URL:https://campcarysbrook.com/event/2026-camper-staff-health-forms-deadline-to-avoid-late-fee/
LOCATION:Camp InTouch
CATEGORIES:Campers,Parents & Guardians
ORGANIZER;CN="Camp Carysbrook":MAILTO:erika@campcarysbrook.com
END:VEVENT
END:VCALENDAR